BEGIN:VCALENDAR
VERSION:2.0
PRODID:-//Library Market//iCal Export//EN
BEGIN:VEVENT
SUMMARY:Wee Read @ Ossian
UID:8067
DTSTAMP:20260421T164200Z
DTSTART:20260626T143000Z
DTEND:20260626T150000Z
LOCATION:207 North Jefferson Street, Ossian, IN 46777, United States
ROOM: Ossian Storytime Room
DESCRIPTION:Birth to 2 ½ years with an adult. Story program for our young
 est patrons. Registration requested.
URL:https://wellscounty.librarycalendar.com/event/wee-read-ossian-8067
END:VEVENT
END:VCALENDAR
